Package: Rbowtie2 Version: 2.12.3 Command: /home/biocbuild/R/R/bin/R CMD INSTALL Rbowtie2 StartedAt: 2025-03-31 20:27:27 -0000 (Mon, 31 Mar 2025) EndedAt: 2025-03-31 20:35:21 -0000 (Mon, 31 Mar 2025) EllapsedTime: 474.8 seconds RetCode: 0 Status: OK