Package: Rbowtie2 Version: 2.12.3 Command: /home/biocbuild/R/R/bin/R CMD check --install=check:Rbowtie2.install-out.txt --library=/home/biocbuild/R/R/site-library --no-vignettes --timings Rbowtie2_2.12.3.tar.gz StartedAt: 2025-04-01 09:48:44 -0000 (Tue, 01 Apr 2025) EndedAt: 2025-04-01 09:49:12 -0000 (Tue, 01 Apr 2025) EllapsedTime: 28.1 seconds RetCode: 0 Status: OK CheckDir: Rbowtie2.Rcheck Warnings: 0