Package: Rbowtie2 Version: 2.12.3 Command: /home/biocbuild/R/R/bin/R CMD build --keep-empty-dirs --no-resave-data Rbowtie2 StartedAt: 2025-04-01 01:53:53 -0000 (Tue, 01 Apr 2025) EndedAt: 2025-04-01 02:01:52 -0000 (Tue, 01 Apr 2025) EllapsedTime: 479.2 seconds RetCode: 0 Status: OK PackageFile: Rbowtie2_2.12.3.tar.gz PackageFileSize: 1.736 MiB