Package: Rbowtie2 Version: 2.12.3 Command: chmod a+r Rbowtie2 -R && F:\biocbuild\bbs-3.20-bioc\R\bin\R.exe CMD build --keep-empty-dirs --no-resave-data Rbowtie2 StartedAt: 2025-03-31 21:19:51 -0400 (Mon, 31 Mar 2025) EndedAt: 2025-03-31 21:25:40 -0400 (Mon, 31 Mar 2025) EllapsedTime: 349.9 seconds RetCode: 0 Status: OK PackageFile: Rbowtie2_2.12.3.tar.gz PackageFileSize: 1.71 MiB