Package: Rbowtie2 Version: 2.12.3 Command: rm -rf Rbowtie2.buildbin-libdir && mkdir Rbowtie2.buildbin-libdir && F:\biocbuild\bbs-3.20-bioc\R\bin\R.exe CMD INSTALL --build --library=Rbowtie2.buildbin-libdir Rbowtie2_2.12.3.tar.gz StartedAt: 2025-04-01 08:58:53 -0400 (Tue, 01 Apr 2025) EndedAt: 2025-04-01 09:04:08 -0400 (Tue, 01 Apr 2025) EllapsedTime: 314.6 seconds RetCode: 0 Status: OK PackageFile: Rbowtie2_2.12.3.zip PackageFileSize: 18.42 MiB