Package: Rbowtie2 Version: 2.12.3 Command: /home/biocbuild/bbs-3.20-bioc/R/bin/R CMD INSTALL Rbowtie2 StartedAt: 2025-03-31 15:21:33 -0400 (Mon, 31 Mar 2025) EndedAt: 2025-03-31 15:26:33 -0400 (Mon, 31 Mar 2025) EllapsedTime: 299.5 seconds RetCode: 0 Status: OK