Package: Rbowtie2 Version: 2.12.3 Command: rm -rf Rbowtie2.buildbin-libdir && mkdir Rbowtie2.buildbin-libdir && /Users/biocbuild/BBS/utils/build-universal.sh Rbowtie2_2.12.3.tar.gz /Library/Frameworks/R.framework/Resources/bin/R Rbowtie2.buildbin-libdir StartedAt: 2025-04-01 12:32:30 -0400 (Tue, 01 Apr 2025) EndedAt: 2025-04-01 12:40:32 -0400 (Tue, 01 Apr 2025) EllapsedTime: 481.2 seconds RetCode: 0 Status: OK PackageFile: Rbowtie2_2.12.3.tgz PackageFileSize: 2.032 MiB