Package: Rbowtie2 Version: 2.12.3 Command: /Library/Frameworks/R.framework/Resources/bin/R CMD INSTALL Rbowtie2 StartedAt: 2025-03-31 15:51:53 -0400 (Mon, 31 Mar 2025) EndedAt: 2025-03-31 15:55:30 -0400 (Mon, 31 Mar 2025) EllapsedTime: 217.1 seconds RetCode: 0 Status: OK