Package: Rbowtie2 Version: 2.12.3 Command: /Library/Frameworks/R.framework/Resources/bin/R CMD check --install=check:Rbowtie2.install-out.txt --library=/Library/Frameworks/R.framework/Resources/library --no-vignettes --timings Rbowtie2_2.12.3.tar.gz StartedAt: 2025-04-02 05:29:06 -0400 (Wed, 02 Apr 2025) EndedAt: 2025-04-02 05:29:42 -0400 (Wed, 02 Apr 2025) EllapsedTime: 35.9 seconds RetCode: 0 Status: OK CheckDir: Rbowtie2.Rcheck Warnings: 0