Package: Rbowtie Version: 1.46.0 Command: /home/biocbuild/R/R/bin/R CMD check --install=check:Rbowtie.install-out.txt --library=/home/biocbuild/R/R/site-library --no-vignettes --timings Rbowtie_1.46.0.tar.gz StartedAt: 2025-04-01 09:48:23 -0000 (Tue, 01 Apr 2025) EndedAt: 2025-04-01 09:48:44 -0000 (Tue, 01 Apr 2025) EllapsedTime: 21.0 seconds RetCode: 0 Status: OK CheckDir: Rbowtie.Rcheck Warnings: 0