Package: RbcBook1 Version: 1.74.0 Command: /home/biocbuild/R/R/bin/R CMD INSTALL RbcBook1 StartedAt: 2025-03-31 20:14:12 -0000 (Mon, 31 Mar 2025) EndedAt: 2025-03-31 20:14:29 -0000 (Mon, 31 Mar 2025) EllapsedTime: 17.3 seconds RetCode: 0 Status: OK