Package: RbcBook1 Version: 1.74.0 Command: /home/biocbuild/R/R/bin/R CMD check --install=check:RbcBook1.install-out.txt --library=/home/biocbuild/R/R/site-library --no-vignettes --timings RbcBook1_1.74.0.tar.gz StartedAt: 2025-04-01 09:47:38 -0000 (Tue, 01 Apr 2025) EndedAt: 2025-04-01 09:48:05 -0000 (Tue, 01 Apr 2025) EllapsedTime: 27.0 seconds RetCode: 0 Status: OK CheckDir: RbcBook1.Rcheck Warnings: 0