Package: RbcBook1 Version: 1.74.0 Command: /home/biocbuild/R/R/bin/R CMD build --keep-empty-dirs --no-resave-data RbcBook1 StartedAt: 2025-04-01 01:52:21 -0000 (Tue, 01 Apr 2025) EndedAt: 2025-04-01 01:52:30 -0000 (Tue, 01 Apr 2025) EllapsedTime: 9.0 seconds RetCode: 0 Status: OK PackageFile: RbcBook1_1.74.0.tar.gz PackageFileSize: 6.41 MiB