Package: RbcBook1 Version: 1.74.0 Command: /Library/Frameworks/R.framework/Resources/bin/R CMD build --keep-empty-dirs --no-resave-data RbcBook1 StartedAt: 2025-03-31 21:16:11 -0400 (Mon, 31 Mar 2025) EndedAt: 2025-03-31 21:16:31 -0400 (Mon, 31 Mar 2025) EllapsedTime: 20.5 seconds RetCode: 0 Status: OK PackageFile: RbcBook1_1.74.0.tar.gz PackageFileSize: 6.412 MiB