Package: RbcBook1 Version: 1.74.0 Command: rm -rf RbcBook1.buildbin-libdir && mkdir RbcBook1.buildbin-libdir && /Users/biocbuild/BBS/utils/build-universal.sh RbcBook1_1.74.0.tar.gz /Library/Frameworks/R.framework/Resources/bin/R RbcBook1.buildbin-libdir StartedAt: 2025-04-02 15:48:14 -0400 (Wed, 02 Apr 2025) EndedAt: 2025-04-02 15:48:21 -0400 (Wed, 02 Apr 2025) EllapsedTime: 6.8 seconds RetCode: 0 Status: OK PackageFile: RbcBook1_1.74.0.tgz PackageFileSize: 6.449 MiB