Package: Rarr Version: 1.6.0 Command: F:\biocbuild\bbs-3.20-bioc\R\bin\R.exe CMD INSTALL Rarr StartedAt: 2025-03-31 15:48:15 -0400 (Mon, 31 Mar 2025) EndedAt: 2025-03-31 15:50:30 -0400 (Mon, 31 Mar 2025) EllapsedTime: 135.6 seconds RetCode: 0 Status: OK