Package: Rarr Version: 1.6.0 Command: /Library/Frameworks/R.framework/Resources/bin/R CMD INSTALL Rarr StartedAt: 2025-03-31 15:42:53 -0400 (Mon, 31 Mar 2025) EndedAt: 2025-03-31 15:45:00 -0400 (Mon, 31 Mar 2025) EllapsedTime: 126.7 seconds RetCode: 0 Status: OK