Package: Rarr Version: 1.6.0 Command: /Library/Frameworks/R.framework/Resources/bin/R CMD build --keep-empty-dirs --no-resave-data Rarr StartedAt: 2025-03-31 21:15:53 -0400 (Mon, 31 Mar 2025) EndedAt: 2025-03-31 21:18:47 -0400 (Mon, 31 Mar 2025) EllapsedTime: 174.0 seconds RetCode: 0 Status: OK PackageFile: Rarr_1.6.0.tar.gz PackageFileSize: 1.431 MiB