Package: RandomWalkRestartMH Version: 1.26.0 Command: /Library/Frameworks/R.framework/Resources/bin/R CMD build --keep-empty-dirs --no-resave-data RandomWalkRestartMH StartedAt: 2025-03-31 21:14:59 -0400 (Mon, 31 Mar 2025) EndedAt: 2025-03-31 21:15:02 -0400 (Mon, 31 Mar 2025) EllapsedTime: 2.2 seconds RetCode: 1 Status: ERROR PackageFile: None PackageFileSize: NA