Package: RaggedExperiment Version: 1.30.0 Command: /home/biocbuild/R/R/bin/R CMD check --install=check:RaggedExperiment.install-out.txt --library=/home/biocbuild/R/R/site-library --no-vignettes --timings RaggedExperiment_1.30.0.tar.gz StartedAt: 2025-04-01 09:46:21 -0000 (Tue, 01 Apr 2025) EndedAt: 2025-04-01 09:49:38 -0000 (Tue, 01 Apr 2025) EllapsedTime: 197.3 seconds RetCode: 0 Status: OK CheckDir: RaggedExperiment.Rcheck Warnings: 0