Package: RadioGx Version: 2.10.0 Command: chmod a+r RadioGx -R && F:\biocbuild\bbs-3.20-bioc\R\bin\R.exe CMD build --keep-empty-dirs --no-resave-data RadioGx StartedAt: 2025-03-31 21:15:24 -0400 (Mon, 31 Mar 2025) EndedAt: 2025-03-31 21:16:39 -0400 (Mon, 31 Mar 2025) EllapsedTime: 74.4 seconds RetCode: 0 Status: OK PackageFile: RadioGx_2.10.0.tar.gz PackageFileSize: 2.737 MiB