Package: RadioGx Version: 2.10.0 Command: /Library/Frameworks/R.framework/Resources/bin/R CMD INSTALL RadioGx StartedAt: 2025-03-31 16:14:12 -0400 (Mon, 31 Mar 2025) EndedAt: 2025-03-31 16:15:31 -0400 (Mon, 31 Mar 2025) EllapsedTime: 78.9 seconds RetCode: 0 Status: OK