Package: RadioGx Version: 2.10.0 Command: rm -rf RadioGx.buildbin-libdir && mkdir RadioGx.buildbin-libdir && /Users/biocbuild/BBS/utils/build-universal.sh RadioGx_2.10.0.tar.gz /Library/Frameworks/R.framework/Resources/bin/R RadioGx.buildbin-libdir StartedAt: 2025-04-01 12:31:39 -0400 (Tue, 01 Apr 2025) EndedAt: 2025-04-01 12:33:02 -0400 (Tue, 01 Apr 2025) EllapsedTime: 82.7 seconds RetCode: 0 Status: OK PackageFile: RadioGx_2.10.0.tgz PackageFileSize: 4.215 MiB