Package: RUVnormalize Version: 1.40.0 Command: /home/biocbuild/R/R/bin/R CMD INSTALL RUVnormalize StartedAt: 2025-03-31 20:12:31 -0000 (Mon, 31 Mar 2025) EndedAt: 2025-03-31 20:13:13 -0000 (Mon, 31 Mar 2025) EllapsedTime: 42.6 seconds RetCode: 0 Status: OK