Package: RUVnormalize Version: 1.40.0 Command: /home/biocbuild/R/R/bin/R CMD build --keep-empty-dirs --no-resave-data RUVnormalize StartedAt: 2025-04-01 02:17:08 -0000 (Tue, 01 Apr 2025) EndedAt: 2025-04-01 02:17:25 -0000 (Tue, 01 Apr 2025) EllapsedTime: 17.0 seconds RetCode: 0 Status: OK PackageFile: RUVnormalize_1.40.0.tar.gz PackageFileSize: 186.9 KiB