Package: RTopper Version: 1.52.0 Command: /home/biocbuild/R/R/bin/R CMD build --keep-empty-dirs --no-resave-data RTopper StartedAt: 2025-04-01 02:15:53 -0000 (Tue, 01 Apr 2025) EndedAt: 2025-04-01 02:16:40 -0000 (Tue, 01 Apr 2025) EllapsedTime: 47.0 seconds RetCode: 1 Status: ERROR PackageFile: None PackageFileSize: NA