Package: RTopper Version: 1.52.0 Command: /home/biocbuild/bbs-3.20-bioc/R/bin/R CMD check --install=check:RTopper.install-out.txt --library=/home/biocbuild/bbs-3.20-bioc/R/site-library --timings RTopper_1.52.0.tar.gz StartedAt: 2025-03-25 01:54:17 -0400 (Tue, 25 Mar 2025) EndedAt: 2025-03-25 01:56:08 -0400 (Tue, 25 Mar 2025) EllapsedTime: 111.1 seconds RetCode: 0 Status: OK CheckDir: RTopper.Rcheck Warnings: 0