Package: RTopper Version: 1.52.0 Command: /home/biocbuild/bbs-3.20-bioc/R/bin/R CMD build --keep-empty-dirs --no-resave-data --md5 RTopper StartedAt: 2025-03-31 18:53:42 -0400 (Mon, 31 Mar 2025) EndedAt: 2025-03-31 18:54:22 -0400 (Mon, 31 Mar 2025) EllapsedTime: 40.0 seconds RetCode: 1 Status: ERROR PackageFile: None PackageFileSize: NA