Package: RTopper Version: 1.52.0 Command: /Library/Frameworks/R.framework/Resources/bin/R CMD check --install=check:RTopper.install-out.txt --library=/Library/Frameworks/R.framework/Resources/library --no-vignettes --timings RTopper_1.52.0.tar.gz StartedAt: 2025-03-26 07:19:04 -0400 (Wed, 26 Mar 2025) EndedAt: 2025-03-26 07:20:16 -0400 (Wed, 26 Mar 2025) EllapsedTime: 72.5 seconds RetCode: 0 Status: OK CheckDir: RTopper.Rcheck Warnings: 0