Package: RTopper Version: 1.52.0 Command: /Library/Frameworks/R.framework/Resources/bin/R CMD build --keep-empty-dirs --no-resave-data RTopper StartedAt: 2025-04-01 06:39:29 -0400 (Tue, 01 Apr 2025) EndedAt: 2025-04-01 06:40:25 -0400 (Tue, 01 Apr 2025) EllapsedTime: 56.0 seconds RetCode: 1 Status: ERROR PackageFile: None PackageFileSize: NA