Package: RTNsurvival Version: 1.30.0 Command: rm -rf RTNsurvival.buildbin-libdir && mkdir RTNsurvival.buildbin-libdir && F:\biocbuild\bbs-3.20-bioc\R\bin\R.exe CMD INSTALL --build --library=RTNsurvival.buildbin-libdir RTNsurvival_1.30.0.tar.gz StartedAt: 2025-04-01 09:06:26 -0400 (Tue, 01 Apr 2025) EndedAt: 2025-04-01 09:07:57 -0400 (Tue, 01 Apr 2025) EllapsedTime: 91.2 seconds RetCode: 0 Status: OK PackageFile: RTNsurvival_1.30.0.zip PackageFileSize: 953.1 KiB