Package: RTNsurvival Version: 1.30.0 Command: /Library/Frameworks/R.framework/Resources/bin/R CMD INSTALL RTNsurvival StartedAt: 2025-03-31 17:57:43 -0400 (Mon, 31 Mar 2025) EndedAt: 2025-03-31 17:58:19 -0400 (Mon, 31 Mar 2025) EllapsedTime: 36.1 seconds RetCode: 0 Status: OK