Package: RTNsurvival Version: 1.30.0 Command: /Library/Frameworks/R.framework/Resources/bin/R CMD check --install=check:RTNsurvival.install-out.txt --library=/Library/Frameworks/R.framework/Resources/library --no-vignettes --timings RTNsurvival_1.30.0.tar.gz StartedAt: 2025-04-02 07:01:51 -0400 (Wed, 02 Apr 2025) EndedAt: 2025-04-02 07:06:01 -0400 (Wed, 02 Apr 2025) EllapsedTime: 249.6 seconds RetCode: 0 Status: OK CheckDir: RTNsurvival.Rcheck Warnings: 0