Package: RTNsurvival Version: 1.30.0 Command: rm -rf RTNsurvival.buildbin-libdir && mkdir RTNsurvival.buildbin-libdir && /Users/biocbuild/BBS/utils/build-universal.sh RTNsurvival_1.30.0.tar.gz /Library/Frameworks/R.framework/Resources/bin/R RTNsurvival.buildbin-libdir StartedAt: 2025-04-02 16:05:53 -0400 (Wed, 02 Apr 2025) EndedAt: 2025-04-02 16:06:35 -0400 (Wed, 02 Apr 2025) EllapsedTime: 42.1 seconds RetCode: 0 Status: OK PackageFile: RTNsurvival_1.30.0.tgz PackageFileSize: 948.3 KiB