Package: RTNduals Version: 1.30.0 Command: /Library/Frameworks/R.framework/Resources/bin/R CMD check --install=check:RTNduals.install-out.txt --library=/Library/Frameworks/R.framework/Resources/library --no-vignettes --timings RTNduals_1.30.0.tar.gz StartedAt: 2025-04-02 07:00:08 -0400 (Wed, 02 Apr 2025) EndedAt: 2025-04-02 07:07:31 -0400 (Wed, 02 Apr 2025) EllapsedTime: 442.4 seconds RetCode: 0 Status: OK CheckDir: RTNduals.Rcheck Warnings: 0