Package: RTN Version: 2.30.0 Command: /Library/Frameworks/R.framework/Resources/bin/R CMD INSTALL RTN StartedAt: 2025-03-31 17:56:11 -0400 (Mon, 31 Mar 2025) EndedAt: 2025-03-31 17:56:52 -0400 (Mon, 31 Mar 2025) EllapsedTime: 41.1 seconds RetCode: 0 Status: OK