Package: RTN Version: 2.30.0 Command: /Library/Frameworks/R.framework/Resources/bin/R CMD check --install=check:RTN.install-out.txt --library=/Library/Frameworks/R.framework/Resources/library --no-vignettes --timings RTN_2.30.0.tar.gz StartedAt: 2025-04-02 06:59:26 -0400 (Wed, 02 Apr 2025) EndedAt: 2025-04-02 07:04:10 -0400 (Wed, 02 Apr 2025) EllapsedTime: 284.3 seconds RetCode: 0 Status: OK CheckDir: RTN.Rcheck Warnings: 0