Package: RTN Version: 2.30.0 Command: /Library/Frameworks/R.framework/Resources/bin/R CMD build --keep-empty-dirs --no-resave-data RTN StartedAt: 2025-04-01 06:38:39 -0400 (Tue, 01 Apr 2025) EndedAt: 2025-04-01 06:41:49 -0400 (Tue, 01 Apr 2025) EllapsedTime: 190.0 seconds RetCode: 0 Status: OK PackageFile: RTN_2.30.0.tar.gz PackageFileSize: 10.26 MiB