Package: RSVSim Version: 1.46.0 Command: /Library/Frameworks/R.framework/Resources/bin/R CMD INSTALL RSVSim StartedAt: 2025-03-31 15:41:07 -0400 (Mon, 31 Mar 2025) EndedAt: 2025-03-31 15:42:13 -0400 (Mon, 31 Mar 2025) EllapsedTime: 65.9 seconds RetCode: 0 Status: OK