Package: RProtoBufLib Version: 2.18.0 Command: /Library/Frameworks/R.framework/Resources/bin/R CMD check --install=check:RProtoBufLib.install-out.txt --library=/Library/Frameworks/R.framework/Resources/library --no-vignettes --timings RProtoBufLib_2.18.0.tar.gz StartedAt: 2025-04-02 06:48:15 -0400 (Wed, 02 Apr 2025) EndedAt: 2025-04-02 06:48:38 -0400 (Wed, 02 Apr 2025) EllapsedTime: 22.5 seconds RetCode: 0 Status: WARNINGS CheckDir: RProtoBufLib.Rcheck Warnings: 2