Package: RPA Version: 1.62.0 Command: /home/biocbuild/R/R/bin/R CMD INSTALL RPA StartedAt: 2025-03-31 20:58:14 -0000 (Mon, 31 Mar 2025) EndedAt: 2025-03-31 20:58:41 -0000 (Mon, 31 Mar 2025) EllapsedTime: 26.9 seconds RetCode: 0 Status: OK