Package: RPA Version: 1.62.0 Command: F:\biocbuild\bbs-3.20-bioc\R\bin\R.exe CMD INSTALL RPA StartedAt: 2025-03-31 16:46:01 -0400 (Mon, 31 Mar 2025) EndedAt: 2025-03-31 16:47:00 -0400 (Mon, 31 Mar 2025) EllapsedTime: 59.3 seconds RetCode: 0 Status: OK