Package: RPA Version: 1.62.0 Command: /Library/Frameworks/R.framework/Resources/bin/R CMD check --install=check:RPA.install-out.txt --library=/Library/Frameworks/R.framework/Resources/library --no-vignettes --timings RPA_1.62.0.tar.gz StartedAt: 2025-04-01 08:18:20 -0400 (Tue, 01 Apr 2025) EndedAt: 2025-04-01 08:23:16 -0400 (Tue, 01 Apr 2025) EllapsedTime: 295.4 seconds RetCode: 0 Status: OK CheckDir: RPA.Rcheck Warnings: 0