Package: RPA Version: 1.62.0 Command: /Library/Frameworks/R.framework/Resources/bin/R CMD build --keep-empty-dirs --no-resave-data RPA StartedAt: 2025-03-31 21:32:34 -0400 (Mon, 31 Mar 2025) EndedAt: 2025-03-31 21:33:27 -0400 (Mon, 31 Mar 2025) EllapsedTime: 52.3 seconds RetCode: 0 Status: OK PackageFile: RPA_1.62.0.tar.gz PackageFileSize: 260.5 KiB