Package: ROntoTools Version: 2.34.0 Command: rm -rf ROntoTools.buildbin-libdir && mkdir ROntoTools.buildbin-libdir && F:\biocbuild\bbs-3.20-bioc\R\bin\R.exe CMD INSTALL --build --library=ROntoTools.buildbin-libdir ROntoTools_2.34.0.tar.gz StartedAt: 2025-04-01 09:05:02 -0400 (Tue, 01 Apr 2025) EndedAt: 2025-04-01 09:05:34 -0400 (Tue, 01 Apr 2025) EllapsedTime: 32.5 seconds RetCode: 0 Status: OK PackageFile: ROntoTools_2.34.0.zip PackageFileSize: 1.476 MiB