Package: ROTS Version: 1.34.0 Command: /home/biocbuild/R/R/bin/R CMD check --install=check:ROTS.install-out.txt --library=/home/biocbuild/R/R/site-library --no-vignettes --timings ROTS_1.34.0.tar.gz StartedAt: 2025-04-01 10:09:59 -0000 (Tue, 01 Apr 2025) EndedAt: 2025-04-01 10:10:47 -0000 (Tue, 01 Apr 2025) EllapsedTime: 48.0 seconds RetCode: 0 Status: OK CheckDir: ROTS.Rcheck Warnings: 0