Package: ROTS Version: 1.34.0 Command: /Library/Frameworks/R.framework/Resources/bin/R CMD build --keep-empty-dirs --no-resave-data ROTS StartedAt: 2025-03-31 21:32:32 -0400 (Mon, 31 Mar 2025) EndedAt: 2025-03-31 21:33:21 -0400 (Mon, 31 Mar 2025) EllapsedTime: 49.1 seconds RetCode: 0 Status: OK PackageFile: ROTS_1.34.0.tar.gz PackageFileSize: 454.7 KiB