Package: ROTS Version: 1.34.0 Command: /Library/Frameworks/R.framework/Resources/bin/R CMD check --install=check:ROTS.install-out.txt --library=/Library/Frameworks/R.framework/Resources/library --no-vignettes --timings ROTS_1.34.0.tar.gz StartedAt: 2025-04-02 06:47:11 -0400 (Wed, 02 Apr 2025) EndedAt: 2025-04-02 06:48:15 -0400 (Wed, 02 Apr 2025) EllapsedTime: 63.9 seconds RetCode: 0 Status: OK CheckDir: ROTS.Rcheck Warnings: 0