Package: ROSeq Version: 1.18.0 Command: /home/biocbuild/R/R/bin/R CMD build --keep-empty-dirs --no-resave-data ROSeq StartedAt: 2025-04-01 02:13:03 -0000 (Tue, 01 Apr 2025) EndedAt: 2025-04-01 02:16:52 -0000 (Tue, 01 Apr 2025) EllapsedTime: 229.2 seconds RetCode: 0 Status: OK PackageFile: ROSeq_1.18.0.tar.gz PackageFileSize: 4.192 MiB