Package: ROSeq Version: 1.18.0 Command: /home/biocbuild/bbs-3.20-bioc/R/bin/R CMD check --install=check:ROSeq.install-out.txt --library=/home/biocbuild/bbs-3.20-bioc/R/site-library --timings ROSeq_1.18.0.tar.gz StartedAt: 2025-04-01 01:40:53 -0400 (Tue, 01 Apr 2025) EndedAt: 2025-04-01 01:46:18 -0400 (Tue, 01 Apr 2025) EllapsedTime: 325.4 seconds RetCode: 0 Status: WARNINGS CheckDir: ROSeq.Rcheck Warnings: 1